BEGIN:VCALENDAR
VERSION:2.0
PRODID:-//Sierra Oaks K-8 PTA - ECPv6.15.5//NONSGML v1.0//EN
CALSCALE:GREGORIAN
METHOD:PUBLISH
X-WR-CALNAME:Sierra Oaks K-8 PTA
X-ORIGINAL-URL:https://sierraoakspta.org
X-WR-CALDESC:Events for Sierra Oaks K-8 PTA
REFRESH-INTERVAL;VALUE=DURATION:PT1H
X-Robots-Tag:noindex
X-PUBLISHED-TTL:PT1H
BEGIN:VTIMEZONE
TZID:America/Los_Angeles
BEGIN:DAYLIGHT
TZOFFSETFROM:-0800
TZOFFSETTO:-0700
TZNAME:PDT
DTSTART:20260308T100000
END:DAYLIGHT
BEGIN:STANDARD
TZOFFSETFROM:-0700
TZOFFSETTO:-0800
TZNAME:PST
DTSTART:20261101T090000
END:STANDARD
END:VTIMEZONE
BEGIN:VEVENT
DTSTART;TZID=America/Los_Angeles:20260202T144500
DTEND;TZID=America/Los_Angeles:20260202T163000
DTSTAMP:20260420T064008
CREATED:20250811T021759Z
LAST-MODIFIED:20260108T175352Z
UID:10000142-1770043500-1770049800@sierraoakspta.org
SUMMARY:Missoula Auditions
DESCRIPTION:Mark your calendars for Missoula! Auditions will be held after school in the MP room. Pick-up times vary depending on the role your child receives. If your child receives a role\, they will attend rehearsals every day after school this week leading up to Friday’s performance.
URL:https://sierraoakspta.org/calendar/missoula-auditions-rehearsals-2/
LOCATION:Sierra Oaks K-8\, 171 Mills Rd\, Sacramento\, CA\, 95864\, United States
ATTACH;FMTTYPE=image/jpeg:https://sierraoakspta.org/wp-content/uploads/MCT-Hercules-Sierra-Oaks-Schol-Play-Flyer-2026.jpg
END:VEVENT
BEGIN:VEVENT
DTSTART;VALUE=DATE:20260203
DTEND;VALUE=DATE:20260206
DTSTAMP:20260420T064008
CREATED:20260108T175626Z
LAST-MODIFIED:20260108T175756Z
UID:10000167-1770076800-1770335999@sierraoakspta.org
SUMMARY:Missoula Rehearsals 
DESCRIPTION:Rehearsals for Missoula will take place right after school in the MP room. If your child is given a role on Monday\, February 2nd\, rehearsals will start immediately after auditions and run through the rest of the week\, leading up to Friday’s performance.
URL:https://sierraoakspta.org/calendar/missoula-rehearsals/
ATTACH;FMTTYPE=image/png:https://sierraoakspta.org/wp-content/uploads/./sok8_calendar_placeholder-1.png
END:VEVENT
BEGIN:VEVENT
DTSTART;TZID=America/Los_Angeles:20260206T183000
DTEND;TZID=America/Los_Angeles:20260206T200000
DTSTAMP:20260420T064008
CREATED:20250811T021905Z
LAST-MODIFIED:20260108T175916Z
UID:10000143-1770402600-1770408000@sierraoakspta.org
SUMMARY:Missoula Performance
DESCRIPTION:
URL:https://sierraoakspta.org/calendar/missoula-performance-3/
LOCATION:Sierra Oaks K-8\, 171 Mills Rd\, Sacramento\, CA\, 95864\, United States
ATTACH;FMTTYPE=image/jpeg:https://sierraoakspta.org/wp-content/uploads/MCT-Hercules-Sierra-Oaks-Schol-Play-Flyer-2026.jpg
END:VEVENT
END:VCALENDAR