BEGIN:VCALENDAR
VERSION:2.0
PRODID:-//Sierra Oaks K-8 PTA - ECPv6.15.5//NONSGML v1.0//EN
CALSCALE:GREGORIAN
METHOD:PUBLISH
X-ORIGINAL-URL:https://sierraoakspta.org
X-WR-CALDESC:Events for Sierra Oaks K-8 PTA
REFRESH-INTERVAL;VALUE=DURATION:PT1H
X-Robots-Tag:noindex
X-PUBLISHED-TTL:PT1H
BEGIN:VTIMEZONE
TZID:America/Los_Angeles
BEGIN:DAYLIGHT
TZOFFSETFROM:-0800
TZOFFSETTO:-0700
TZNAME:PDT
DTSTART:20250309T100000
END:DAYLIGHT
BEGIN:STANDARD
TZOFFSETFROM:-0700
TZOFFSETTO:-0800
TZNAME:PST
DTSTART:20251102T090000
END:STANDARD
END:VTIMEZONE
BEGIN:VEVENT
DTSTART;TZID=America/Los_Angeles:20250114T170000
DTEND;TZID=America/Los_Angeles:20250114T180000
DTSTAMP:20260422T025221
CREATED:20250109T190820Z
LAST-MODIFIED:20250109T190820Z
UID:10000114-1736874000-1736877600@sierraoakspta.org
SUMMARY:Sierra Oaks Choir & Band Performance
DESCRIPTION:Join us for a FREE Sierra Oaks Choir & Band Performance in the MP room! We’d love to have our Sierra Oaks community there to support our students who have been working so hard!
URL:https://sierraoakspta.org/calendar/sierra-oaks-choir-band-performance/
ATTACH;FMTTYPE=image/png:https://sierraoakspta.org/wp-content/uploads/./sok8_calendar_placeholder-1.png
END:VEVENT
BEGIN:VEVENT
DTSTART;TZID=America/Los_Angeles:20250115T160000
DTEND;TZID=America/Los_Angeles:20250115T200000
DTSTAMP:20260422T025221
CREATED:20241119T224614Z
LAST-MODIFIED:20241119T224614Z
UID:10000110-1736956800-1736971200@sierraoakspta.org
SUMMARY:Dine Out Night Fundraiser at Chipotle
DESCRIPTION:
URL:https://sierraoakspta.org/calendar/dine-out-night-fundraiser-at-chipotle/
LOCATION:Chipotle\, 2517 Fair Oaks Blvd\, Sacramento\, CA\, 95825\, United States
ATTACH;FMTTYPE=image/jpeg:https://sierraoakspta.org/wp-content/uploads/523215-flyer.jpg
END:VEVENT
END:VCALENDAR