BEGIN:VCALENDAR
VERSION:2.0
PRODID:-//Sierra Oaks K-8 PTA - ECPv6.15.5//NONSGML v1.0//EN
CALSCALE:GREGORIAN
METHOD:PUBLISH
X-WR-CALNAME:Sierra Oaks K-8 PTA
X-ORIGINAL-URL:https://sierraoakspta.org
X-WR-CALDESC:Events for Sierra Oaks K-8 PTA
REFRESH-INTERVAL;VALUE=DURATION:PT1H
X-Robots-Tag:noindex
X-PUBLISHED-TTL:PT1H
BEGIN:VTIMEZONE
TZID:America/Los_Angeles
BEGIN:DAYLIGHT
TZOFFSETFROM:-0800
TZOFFSETTO:-0700
TZNAME:PDT
DTSTART:20250309T100000
END:DAYLIGHT
BEGIN:STANDARD
TZOFFSETFROM:-0700
TZOFFSETTO:-0800
TZNAME:PST
DTSTART:20251102T090000
END:STANDARD
BEGIN:DAYLIGHT
TZOFFSETFROM:-0800
TZOFFSETTO:-0700
TZNAME:PDT
DTSTART:20260308T100000
END:DAYLIGHT
BEGIN:STANDARD
TZOFFSETFROM:-0700
TZOFFSETTO:-0800
TZNAME:PST
DTSTART:20261101T090000
END:STANDARD
END:VTIMEZONE
BEGIN:VEVENT
DTSTART;VALUE=DATE:20251222
DTEND;VALUE=DATE:20260106
DTSTAMP:20260420T054801
CREATED:20250811T021431Z
LAST-MODIFIED:20250811T021431Z
UID:10000140-1766361600-1767657599@sierraoakspta.org
SUMMARY:Winter Break
DESCRIPTION:No school from December 22nd through January 5th. Students will resume school on Tuesday\, January 6th.
URL:https://sierraoakspta.org/calendar/winter-break-2/
ATTACH;FMTTYPE=image/png:https://sierraoakspta.org/wp-content/uploads/./sok8_calendar_placeholder-1.png
END:VEVENT
BEGIN:VEVENT
DTSTART;VALUE=DATE:20251223
DTEND;VALUE=DATE:20260106
DTSTAMP:20260420T054801
CREATED:20250811T024823Z
LAST-MODIFIED:20250811T024823Z
UID:10000161-1766448000-1767657599@sierraoakspta.org
SUMMARY:Winter Break (No School)
DESCRIPTION:School will be closed for the Winter break holiday\, with school resuming on Tuesday\, January 6th.
URL:https://sierraoakspta.org/calendar/winter-break-no-school/
ATTACH;FMTTYPE=image/png:https://sierraoakspta.org/wp-content/uploads/./sok8_calendar_placeholder-1.png
END:VEVENT
BEGIN:VEVENT
DTSTART;TZID=America/Los_Angeles:20260114T170000
DTEND;TZID=America/Los_Angeles:20260114T180000
DTSTAMP:20260420T054801
CREATED:20260108T174957Z
LAST-MODIFIED:20260108T174957Z
UID:10000166-1768410000-1768413600@sierraoakspta.org
SUMMARY:Band & Choir Performance
DESCRIPTION:All are invited to attend our Sierra Oaks band and choir performance in the MP room!
URL:https://sierraoakspta.org/calendar/band-choir-performance/
ATTACH;FMTTYPE=image/png:https://sierraoakspta.org/wp-content/uploads/./sok8_calendar_placeholder-1.png
END:VEVENT
BEGIN:VEVENT
DTSTART;TZID=America/Los_Angeles:20260115T170000
DTEND;TZID=America/Los_Angeles:20260115T210000
DTSTAMP:20260420T054802
CREATED:20260108T173759Z
LAST-MODIFIED:20260108T173759Z
UID:10000164-1768496400-1768510800@sierraoakspta.org
SUMMARY:Dine Out Night at Smashburger
DESCRIPTION:Join us for a Dine-Out-Night at delicious Smashburger that supports our Sierra Oaks School. If ordering online\, please use the code: SBFUNDRAISE.
URL:https://sierraoakspta.org/calendar/dine-out-night-at-smashburger/
ATTACH;FMTTYPE=image/jpeg:https://sierraoakspta.org/wp-content/uploads/Smashburger-Sierra-Oaks-Poster.jpg
END:VEVENT
BEGIN:VEVENT
DTSTART;VALUE=DATE:20260119
DTEND;VALUE=DATE:20260120
DTSTAMP:20260420T054802
CREATED:20250811T021518Z
LAST-MODIFIED:20250811T021518Z
UID:10000141-1768780800-1768867199@sierraoakspta.org
SUMMARY:Martin Luther King Jr. Day (No School)
DESCRIPTION:
URL:https://sierraoakspta.org/calendar/martin-luther-king-jr-day-no-school-3/
ATTACH;FMTTYPE=image/png:https://sierraoakspta.org/wp-content/uploads/./sok8_calendar_placeholder-1.png
END:VEVENT
BEGIN:VEVENT
DTSTART;TZID=America/Los_Angeles:20260123T173000
DTEND;TZID=America/Los_Angeles:20260123T190000
DTSTAMP:20260420T054802
CREATED:20260108T174229Z
LAST-MODIFIED:20260108T174229Z
UID:10000165-1769189400-1769194800@sierraoakspta.org
SUMMARY:Family Art Night
DESCRIPTION:Join us for a family fun guided art night in the Sierra Oaks MP room! Cost to attend is just $20 per family. We can’t wait to see you there!
URL:https://sierraoakspta.org/calendar/family-art-night-2/
ATTACH;FMTTYPE=image/jpeg:https://sierraoakspta.org/wp-content/uploads/Sierra-Oaks-Art-Night-2025-Flyer.jpg
END:VEVENT
END:VCALENDAR