BEGIN:VCALENDAR
VERSION:2.0
PRODID:-//Sierra Oaks K-8 PTA - ECPv6.15.5//NONSGML v1.0//EN
CALSCALE:GREGORIAN
METHOD:PUBLISH
X-WR-CALNAME:Sierra Oaks K-8 PTA
X-ORIGINAL-URL:https://sierraoakspta.org
X-WR-CALDESC:Events for Sierra Oaks K-8 PTA
REFRESH-INTERVAL;VALUE=DURATION:PT1H
X-Robots-Tag:noindex
X-PUBLISHED-TTL:PT1H
BEGIN:VTIMEZONE
TZID:America/Los_Angeles
BEGIN:DAYLIGHT
TZOFFSETFROM:-0800
TZOFFSETTO:-0700
TZNAME:PDT
DTSTART:20230312T100000
END:DAYLIGHT
BEGIN:STANDARD
TZOFFSETFROM:-0700
TZOFFSETTO:-0800
TZNAME:PST
DTSTART:20231105T090000
END:STANDARD
BEGIN:DAYLIGHT
TZOFFSETFROM:-0800
TZOFFSETTO:-0700
TZNAME:PDT
DTSTART:20240310T100000
END:DAYLIGHT
BEGIN:STANDARD
TZOFFSETFROM:-0700
TZOFFSETTO:-0800
TZNAME:PST
DTSTART:20241103T090000
END:STANDARD
END:VTIMEZONE
BEGIN:VEVENT
DTSTART;TZID=America/Los_Angeles:20240508T183000
DTEND;TZID=America/Los_Angeles:20240508T193000
DTSTAMP:20260423T011131
CREATED:20230911T071436Z
LAST-MODIFIED:20230911T071436Z
UID:10000044-1715193000-1715196600@sierraoakspta.org
SUMMARY:SOK-8 Connect PTA Meeting - May
DESCRIPTION:Join us for our monthly PTA meeting! Hope to see you there and feel free to share this message with other Sierra Oaks families! \nJoin Zoom Meeting\nhttps://us06web.zoom.us/j/6416030581?pwd=cndLSlg5cnpzMkQzVDRhTGtya1d1QT09 \nMeeting ID: 641 603 0581\nPasscode: 7B4Pyh
URL:https://sierraoakspta.org/calendar/sok-8-connect-pta-meeting-may-2024/
LOCATION:CA
CATEGORIES:Meetings
ATTACH;FMTTYPE=image/png:https://sierraoakspta.org/wp-content/uploads/./sok8_calendar_placeholder-1.png
ORGANIZER;CN="Sierra Oaks K-8 PTA":MAILTO:sok8connect@gmail.com
END:VEVENT
BEGIN:VEVENT
DTSTART;TZID=America/Los_Angeles:20240417T183000
DTEND;TZID=America/Los_Angeles:20240417T193000
DTSTAMP:20260423T011131
CREATED:20230911T070754Z
LAST-MODIFIED:20240412T173456Z
UID:10000041-1713378600-1713382200@sierraoakspta.org
SUMMARY:April PTA Meeting & PTA Board Elections
DESCRIPTION:In our April PTA meeting\, we will be electing the 2024-2025 Sierra Oaks PTA Board. If you are a member of the PTA\, staff or part of the Sierra Oaks family\, this is a very important meeting and we would like all to join this meeting to vote on the PTA Board slate. \nThe nominating committee has shared the following 2024-2025 Sierra Oaks PTA Board Nominees: \n\nPTA President: Kristine Bonfantine\nVP of Communications: Christina Kiefer\nVP of Events: Beth Harris\nTreasurer: Heather Wong\nSecretary: Katie Bornn\nFinancial Secretary: Marci Huckell\nUpper Grade Liaison: Kelly Brooks Lindsey\nParliamentarian: Natalie Willmann\nAuditor: Steven Rubens\nHistorian: Marcie Wilson\n\nJoin us for our monthly PTA meeting! Hope to see you there and feel free to share this message with other Sierra Oaks families! \nJoin Zoom Meetinghttps://us06web.zoom.us/j/6416030581?pwd=cndLSlg5cnpzMkQzVDRhTGtya1d1QT09 \nMeeting ID: 641 603 0581Passcode: 7B4Pyh
URL:https://sierraoakspta.org/calendar/sok-8-connect-pta-meeting-april/
LOCATION:CA
CATEGORIES:Meetings
ATTACH;FMTTYPE=image/png:https://sierraoakspta.org/wp-content/uploads/./sok8_calendar_placeholder-1.png
ORGANIZER;CN="Sierra Oaks K-8 PTA":MAILTO:sok8connect@gmail.com
END:VEVENT
BEGIN:VEVENT
DTSTART;TZID=America/Los_Angeles:20240404T170000
DTEND;TZID=America/Los_Angeles:20240404T180000
DTSTAMP:20260423T011131
CREATED:20240403T065048Z
LAST-MODIFIED:20240403T065048Z
UID:10000052-1712250000-1712253600@sierraoakspta.org
SUMMARY:Family Art Night
DESCRIPTION:Family Art Night – April 4th from 5-6pm \nCalling all artists and art enthusiasts! Join us for a magical evening of creativity and fun at Family Art Night! \nUnleash your imagination and create your own masterpieces inspired by famous artists. From painting to chalk drawing\, beading\, and more\, there’s something for everyone! Plus\, don’t miss out on the chance to contribute to the Artists Wall and enter the raffle!
URL:https://sierraoakspta.org/calendar/family-art-night/
LOCATION:Sierra Oaks K-8\, 171 Mills Rd\, Sacramento\, CA\, 95864\, United States
CATEGORIES:Activities,Events,Meetings
ATTACH;FMTTYPE=image/jpeg:https://sierraoakspta.org/wp-content/uploads/family_art_night_2024.jpg
END:VEVENT
BEGIN:VEVENT
DTSTART;TZID=America/Los_Angeles:20240313T183000
DTEND;TZID=America/Los_Angeles:20240313T193000
DTSTAMP:20260423T011131
CREATED:20230911T070320Z
LAST-MODIFIED:20230911T070320Z
UID:10000038-1710354600-1710358200@sierraoakspta.org
SUMMARY:SOK-8 Connect PTA Meeting - March
DESCRIPTION:Join us for our monthly PTA meeting! Hope to see you there and feel free to share this message with other Sierra Oaks families! \nJoin Zoom Meeting\nhttps://us06web.zoom.us/j/6416030581?pwd=cndLSlg5cnpzMkQzVDRhTGtya1d1QT09 \nMeeting ID: 641 603 0581\nPasscode: 7B4Pyh
URL:https://sierraoakspta.org/calendar/sok-8-connect-pta-meeting-march/
LOCATION:CA
CATEGORIES:Meetings
ATTACH;FMTTYPE=image/png:https://sierraoakspta.org/wp-content/uploads/./sok8_calendar_placeholder-1.png
ORGANIZER;CN="Sierra Oaks K-8 PTA":MAILTO:sok8connect@gmail.com
END:VEVENT
BEGIN:VEVENT
DTSTART;TZID=America/Los_Angeles:20240207T183000
DTEND;TZID=America/Los_Angeles:20240207T193000
DTSTAMP:20260423T011131
CREATED:20230911T053320Z
LAST-MODIFIED:20230911T053320Z
UID:10000033-1707330600-1707334200@sierraoakspta.org
SUMMARY:SOK-8 Connect PTA Meeting - February
DESCRIPTION:Join us for our monthly PTA meeting! Hope to see you there and feel free to share this message with other Sierra Oaks families! \nJoin Zoom Meeting\nhttps://us06web.zoom.us/j/6416030581?pwd=cndLSlg5cnpzMkQzVDRhTGtya1d1QT09 \nMeeting ID: 641 603 0581\nPasscode: 7B4Pyh
URL:https://sierraoakspta.org/calendar/k-8-connect-pta-meeting-0223/
LOCATION:CA
CATEGORIES:Meetings
ATTACH;FMTTYPE=image/png:https://sierraoakspta.org/wp-content/uploads/./sok8_calendar_placeholder-1.png
ORGANIZER;CN="Sierra Oaks K-8 PTA":MAILTO:sok8connect@gmail.com
END:VEVENT
BEGIN:VEVENT
DTSTART;TZID=America/Los_Angeles:20231213T183000
DTEND;TZID=America/Los_Angeles:20231213T193000
DTSTAMP:20260423T011131
CREATED:20230911T052519Z
LAST-MODIFIED:20230911T052519Z
UID:10000027-1702492200-1702495800@sierraoakspta.org
SUMMARY:SOK-8 PTA Connect Meeting - December
DESCRIPTION:Join us for our monthly PTA meeting! Hope to see you there and feel free to share this message with other Sierra Oaks families! \nJoin Zoom Meeting\nhttps://us06web.zoom.us/j/6416030581?pwd=cndLSlg5cnpzMkQzVDRhTGtya1d1QT09 \nMeeting ID: 641 603 0581\nPasscode: 7B4Pyh
URL:https://sierraoakspta.org/calendar/sok-8-pta-connect-meeting-december/
LOCATION:Zoom
CATEGORIES:Meetings
ATTACH;FMTTYPE=image/png:https://sierraoakspta.org/wp-content/uploads/./sok8_calendar_placeholder-1.png
END:VEVENT
BEGIN:VEVENT
DTSTART;TZID=America/Los_Angeles:20231115T183000
DTEND;TZID=America/Los_Angeles:20231115T193000
DTSTAMP:20260423T011131
CREATED:20230716T043038Z
LAST-MODIFIED:20230816T233134Z
UID:10000020-1700073000-1700076600@sierraoakspta.org
SUMMARY:K-8 Connect Meeting
DESCRIPTION:Join us for our monthly PTA meeting! Hope to see you there and feel free to share this message with other Sierra Oaks families! \nJoin Zoom Meeting\nhttps://us06web.zoom.us/j/6416030581?pwd=cndLSlg5cnpzMkQzVDRhTGtya1d1QT09 \nMeeting ID: 641 603 0581\nPasscode: 7B4Pyh
URL:https://sierraoakspta.org/calendar/k-8-connect-meeting-2/
LOCATION:Zoom
CATEGORIES:Meetings
ATTACH;FMTTYPE=image/png:https://sierraoakspta.org/wp-content/uploads/./sok8_calendar_placeholder-1.png
END:VEVENT
BEGIN:VEVENT
DTSTART;TZID=America/Los_Angeles:20231018T183000
DTEND;TZID=America/Los_Angeles:20231018T193000
DTSTAMP:20260423T011131
CREATED:20230716T041057Z
LAST-MODIFIED:20230816T233138Z
UID:10000014-1697653800-1697657400@sierraoakspta.org
SUMMARY:K-8 Connect Meeting
DESCRIPTION:Join us for our monthly PTA meeting! Hope to see you there and feel free to share this message with other Sierra Oaks families! \nJoin Zoom Meeting\nhttps://us06web.zoom.us/j/6416030581?pwd=cndLSlg5cnpzMkQzVDRhTGtya1d1QT09 \nMeeting ID: 641 603 0581\nPasscode: 7B4Pyh
URL:https://sierraoakspta.org/calendar/k-8-connect-meeting/
LOCATION:Zoom
CATEGORIES:Meetings
ATTACH;FMTTYPE=image/png:https://sierraoakspta.org/wp-content/uploads/./sok8_calendar_placeholder-1.png
END:VEVENT
BEGIN:VEVENT
DTSTART;TZID=America/Los_Angeles:20230913T183000
DTEND;TZID=America/Los_Angeles:20230913T193000
DTSTAMP:20260423T011131
CREATED:20230611T214321Z
LAST-MODIFIED:20230816T232743Z
UID:10000011-1694629800-1694633400@sierraoakspta.org
SUMMARY:K-8 Connect - PTA Meeting
DESCRIPTION:Join us for our monthly PTA meeting! Hope to see you there and feel free to share this message with other Sierra Oaks families! \nJoin Zoom Meeting\nhttps://us06web.zoom.us/j/6416030581?pwd=cndLSlg5cnpzMkQzVDRhTGtya1d1QT09 \nMeeting ID: 641 603 0581\nPasscode: 7B4Pyh
URL:https://sierraoakspta.org/calendar/k-8-connect-pta-meeting/
LOCATION:CA
CATEGORIES:Meetings
ATTACH;FMTTYPE=image/png:https://sierraoakspta.org/wp-content/uploads/./sok8_calendar_placeholder-1.png
ORGANIZER;CN="Sierra Oaks K-8 PTA":MAILTO:sok8connect@gmail.com
END:VEVENT
BEGIN:VEVENT
DTSTART;TZID=America/Los_Angeles:20230816T183000
DTEND;TZID=America/Los_Angeles:20230816T193000
DTSTAMP:20260423T011131
CREATED:20230731T035850Z
LAST-MODIFIED:20230816T232930Z
UID:10000025-1692210600-1692214200@sierraoakspta.org
SUMMARY:PTA Meeting: K-8 Connect
DESCRIPTION:Join us for our monthly PTA meeting! Hope to see you there and feel free to share this message with other Sierra Oaks families! \nJoin Zoom Meeting\nhttps://us06web.zoom.us/j/6416030581?pwd=cndLSlg5cnpzMkQzVDRhTGtya1d1QT09 \nMeeting ID: 641 603 0581\nPasscode: 7B4Pyh
URL:https://sierraoakspta.org/calendar/pta-meeting/
LOCATION:CA
CATEGORIES:Meetings
ATTACH;FMTTYPE=image/png:https://sierraoakspta.org/wp-content/uploads/./sok8_calendar_placeholder-1.png
END:VEVENT
END:VCALENDAR