BEGIN:VCALENDAR
VERSION:2.0
PRODID:-//Sierra Oaks K-8 PTA - ECPv6.15.5//NONSGML v1.0//EN
CALSCALE:GREGORIAN
METHOD:PUBLISH
X-ORIGINAL-URL:https://sierraoakspta.org
X-WR-CALDESC:Events for Sierra Oaks K-8 PTA
REFRESH-INTERVAL;VALUE=DURATION:PT1H
X-Robots-Tag:noindex
X-PUBLISHED-TTL:PT1H
BEGIN:VTIMEZONE
TZID:America/Los_Angeles
BEGIN:DAYLIGHT
TZOFFSETFROM:-0800
TZOFFSETTO:-0700
TZNAME:PDT
DTSTART:20230312T100000
END:DAYLIGHT
BEGIN:STANDARD
TZOFFSETFROM:-0700
TZOFFSETTO:-0800
TZNAME:PST
DTSTART:20231105T090000
END:STANDARD
BEGIN:DAYLIGHT
TZOFFSETFROM:-0800
TZOFFSETTO:-0700
TZNAME:PDT
DTSTART:20240310T100000
END:DAYLIGHT
BEGIN:STANDARD
TZOFFSETFROM:-0700
TZOFFSETTO:-0800
TZNAME:PST
DTSTART:20241103T090000
END:STANDARD
END:VTIMEZONE
BEGIN:VEVENT
DTSTART;TZID=America/Los_Angeles:20240202T053000
DTEND;TZID=America/Los_Angeles:20240202T190000
DTSTAMP:20260422T060254
CREATED:20230911T053121Z
LAST-MODIFIED:20231213T182128Z
UID:10000032-1706851800-1706900400@sierraoakspta.org
SUMMARY:Missoula Performance
DESCRIPTION:Sierra Oaks K-8 Missoula 2024 Registration\nSign up to register to participate in the upcoming 2024 Missoula performance! $30 per student. \nParts available for 1st – 8th Graders (roles are limited due to number of costumes). Auditions will be January 29th from 2:45 PM – 4:45pm. Space is limited\, register today!  \nRehearsals start at 2:45 PM on Tuesday\, Wednesday\, Friday\, and 1:30 PM Thursday – Actors must attend all sessions. $30 participation fee per actor\, refunded if not chosen for a part. Please contact us at connect@sierraoakspta.org with any questions. \nPerformance: Friday\, February 2nd\, 7:00 PM at Sierra Oaks.
URL:https://sierraoakspta.org/calendar/missoula-performance/
LOCATION:CA
CATEGORIES:Activities,Events
ATTACH;FMTTYPE=image/jpeg:https://sierraoakspta.org/wp-content/uploads/PAW-LOGO-FULL-COLOR-2-eblast.jpg
END:VEVENT
BEGIN:VEVENT
DTSTART;TZID=America/Los_Angeles:20240129T143000
DTEND;TZID=America/Los_Angeles:20240129T150000
DTSTAMP:20260422T060254
CREATED:20230911T053003Z
LAST-MODIFIED:20231213T182040Z
UID:10000031-1706538600-1706540400@sierraoakspta.org
SUMMARY:Missoula Auditions
DESCRIPTION:Sierra Oaks K-8 Missoula 2024 Registration\nSign up to register to participate in the upcoming 2024 Missoula performance! $30 per student. \nParts available for 1st – 8th Graders (roles are limited due to number of costumes). Auditions will be January 29th from 2:45 PM – 4:45pm. Space is limited\, register today!  \nRehearsals start at 2:45 PM on Tuesday\, Wednesday\, Friday\, and 1:30 PM Thursday – Actors must attend all sessions. $30 participation fee per actor\, refunded if not chosen for a part. Please contact us at connect@sierraoakspta.org with any questions. \nPerformance: Friday\, February 2nd\, 7:00 PM at Sierra Oaks.
URL:https://sierraoakspta.org/calendar/missoula-auditions/
LOCATION:CA
CATEGORIES:Activities
ATTACH;FMTTYPE=image/jpeg:https://sierraoakspta.org/wp-content/uploads/PAW-LOGO-FULL-COLOR-2-eblast.jpg
END:VEVENT
BEGIN:VEVENT
DTSTART;TZID=America/Los_Angeles:20231207T170000
DTEND;TZID=America/Los_Angeles:20231207T190000
DTSTAMP:20260422T060254
CREATED:20231206T013118Z
LAST-MODIFIED:20231206T013118Z
UID:10000049-1701968400-1701975600@sierraoakspta.org
SUMMARY:Multicultural Family Night
DESCRIPTION:Embark on a journey around the world at our first Family Night of the year! Join us for mesmerizing performances by the Mira Loma Chinese and Japanese Cultural Clubs\, and immerse yourself in multicultural hands-on activities such as Origami\, Pysanky Eggs\, Dia de los Muertos Mask-making\, Arabic calligraphy\, Salsa lessons\, and lots of fun! \nAnd don’t miss out on delicious bites from our Food Trucks\, including Habibi’s Grill and Selena’s Catering.
URL:https://sierraoakspta.org/calendar/multicultural-family-night/
LOCATION:Sierra Oaks K-8\, 171 Mills Rd\, Sacramento\, CA\, 95864\, United States
CATEGORIES:Activities,Events
ATTACH;FMTTYPE=image/jpeg:https://sierraoakspta.org/wp-content/uploads/sok8_family_night.jpg
END:VEVENT
END:VCALENDAR